Workbook
Name NewName: 'Score Sheet'!$A$1:$L$102
Name Newname: 'Summary Sheet'!$A$1:$E$106

Sheet Score Sheet
A2: 8 X 8 Trophy - Tuesday October 18th 2022 - Judge: Clive Tanner FRPS MPAGB APAGB
A3: Round One
A4: Position | B4: Image Title | C4: Author | D4: Club / Society | E4: Chelmsford | F4: Clacton | G4: Colchester | H4: Halstead | I4: Harwich | J4: Ipswich | K4: Maldon | L4: Springfield
B5: Round 1:1
A6: 1 | B6: =Halstead!$B$6 -> A Match Made in Heaven | C6: =Halstead!$C$6 -> Brian Fleming | D6: Halstead | H6: 17 | M6: =+SUM(E6:L6) -> 17
A7: 2 | B7: =Clacton!$B$6 -> Emma | C7: =Clacton!$C$6 -> Hilary Knight | D7: Clacton | F7: 18 | M7: =+SUM(E7:L7) -> 18
A8: 3 | B8: =Colchester!$B$6 -> Five Trees Iceland | C8: =Colchester!$C$6 -> Colin Westgate | D8: Colchester | G8: 20 | M8: =+SUM(E8:L8) -> 20
A9: 4 | B9: =Ipswich!$B$6 -> Flower Flurries | C9: =Ipswich!$C$6 -> Isabella Knight | D9: Ipswich | J9: 18 | M9: =+SUM(E9:L9) -> 18
A10: 5 | B10: =Harwich!$B$6 -> Geranium | C10: =Harwich!$C$6 -> George Fossey | D10: Harwich | I10: 16 | M10: =+SUM(E10:L10) -> 16
A11: 6 | B11: =Maldon!$B$6 -> I`m Thinking | C11: =Maldon!$C$6 -> Roger Gay | D11: Maldon | K11: 17 | M11: =+SUM(E11:L11) -> 17
A12: 7 | B12: =Springfield!$B$6 -> Primary Glider | C12: =Springfield!$C$6 -> Chris Webber | D12: Springfield | L12: 17 | M12: =+SUM(E12:L12) -> 17
A13: 8 | B13: =Chelmsford!$B$6 -> WW1 Military Policeman | C13: =Chelmsford!$C$6 -> Colin Birch | D13: Chelmsford | E13: 19 | M13: =+SUM(E13:L13) -> 19
B14: Round 1:2 | M14: =+SUM(E14:L14) -> 0
A15: 9 | B15: =Maldon!$B$7 -> 50`s Film Crew | C15: =Maldon!$C$7 -> Terry Stone | D15: Maldon | K15: 16 | M15: =+SUM(E15:L15) -> 16
A16: 10 | B16: =Clacton!$B$7 -> Amy | C16: =Clacton!$C$7 -> David Blackwell | D16: Clacton | F16: 16 | M16: =+SUM(E16:L16) -> 16
A17: 11* | B17: =Colchester!$B$7 -> At Home with Julio Napolis | C17: =Colchester!$C$7 -> Roy Essery | D17: Colchester | G17: 20 | M17: =+SUM(E17:L17) -> 20
A18: 12 | B18: =Halstead!$B$7 -> Baking Day | C18: =Halstead!$C$7 -> Dennis McDermott | D18: Halstead | H18: 19 | M18: =+SUM(E18:L18) -> 19
A19: 13 | B19: =Ipswich!$B$7 -> Boxing Hares | C19: =Ipswich!$C$7 -> Stephen Harper | D19: Ipswich | J19: 18 | M19: =+SUM(E19:L19) -> 18
A20: 14 | B20: =Springfield!$B$7 -> Charlie Brown | C20: =Springfield!$C$7 -> Val Whitmell | D20: Springfield | L20: 18 | M20: =+SUM(E20:L20) -> 18
A21: 15 | B21: =Harwich!$B$7 -> Day Dreamer | C21: =Harwich!$C$7 -> Alana Saunders | D21: Harwich | I21: 20 | M21: =+SUM(E21:L21) -> 20
A22: 16 | B22: =Chelmsford!$B$7 -> Shades of Lilac and Purple | C22: =Chelmsford!$C$7 -> Pat Frewin | D22: Chelmsford | E22: 18 | M22: =+SUM(E22:L22) -> 18
B23: Round 1:3 | M23: =+SUM(E23:L23) -> 0
A24: 17 | B24: =Maldon!$B$8 -> Battling Stallions | C24: =Maldon!$C$8 -> Paul Wild | D24: Maldon | K24: 17 | M24: =+SUM(E24:L24) -> 17
A25: 18 | B25: =Halstead!$B$8 -> Dried Alstroemeria | C25: =Halstead!$C$8 -> Jan Bond | D25: Halstead | H25: 18 | M25: =+SUM(E25:L25) -> 18
A26: 19 | B26: =Colchester!$B$8 -> Flying low over water | C26: =Colchester!$C$8 -> Martin Heathcote | D26: Colchester | G26: 17 | M26: =+SUM(E26:L26) -> 17
A27: 20 | B27: =Ipswich!$B$8 -> Gannets | C27: =Ipswich!$C$8 -> Martin Hancock | D27: Ipswich | J27: 16 | M27: =+SUM(E27:L27) -> 16
A28: 21 | B28: =Clacton!$B$8 -> Otters Play Fighting | C28: =Clacton!$C$8 -> Colin Brett | D28: Clacton | F28: 18 | M28: =+SUM(E28:L28) -> 18
A29: 22 | B29: =Harwich!$B$8 -> The tree and tower | C29: =Harwich!$C$8 -> Val Green | D29: Harwich | I29: 16 | M29: =+SUM(E29:L29) -> 16
A30: 23 | B30: =Chelmsford!$B$8 -> Thinking | C30: =Chelmsford!$C$8 -> Tom Plucinski | D30: Chelmsford | E30: 17 | M30: =+SUM(E30:L30) -> 17
A31: 24 | B31: =Springfield!$B$8 -> Tower Bridge | C31: =Springfield!$C$8 -> Nick Trye | D31: Springfield | L31: 16 | M31: =+SUM(E31:L31) -> 16
B32: Round 1:4 | M32: =+SUM(E32:L32) -> 0
A33: 25 | B33: =Colchester!$B$9 -> Febrrrrrrrary | C33: =Colchester!$C$9 -> Chris Aldred | D33: Colchester | G33: 20 | M33: =+SUM(E33:L33) -> 20
A34: 26 | B34: =Harwich!$B$9 -> I put a spell on you | C34: =Harwich!$C$9 -> Leigh Browm | D34: Harwich | I34: 16 | M34: =+SUM(E34:L34) -> 16
A35: 27 | B35: =Ipswich!$B$9 -> Japanese Alps | C35: =Ipswich!$C$9 -> Lynda Robinson | D35: Ipswich | J35: 19 | M35: =+SUM(E35:L35) -> 19
A36: 28 | B36: =Maldon!$B$9 -> Lady In Red | C36: =Maldon!$C$9 -> Jane Lamgston | D36: Maldon | K36: 17 | M36: =+SUM(E36:L36) -> 17
A37: 29 | B37: =Halstead!$B$9 -> Mind the Gap | C37: =Halstead!$C$9 -> Bill Hiskett | D37: Halstead | H37: 17 | M37: =+SUM(E37:L37) -> 17
A38: 30 | B38: =Springfield!$B$9 -> Starry Night | C38: =Springfield!$C$9 -> Jon Lane | D38: Springfield | L38: 18 | M38: =+SUM(E38:L38) -> 18
A39: 31 | B39: =Clacton!$B$9 -> The Bench | C39: =Clacton!$C$9 -> Tony Carrotte | D39: Clacton | F39: 16 | M39: =+SUM(E39:L39) -> 16
A40: 32 | B40: =Chelmsford!$B$9 -> Wild Frogs from the Dark Depths of the Ecuadorian Rainforest | C40: =Chelmsford!$C$9 -> Alison Johnson | D40: Chelmsford | E40: 19 | M40: =+SUM(E40:L40) -> 19
A41: Total Score from Round One | E41: =+SUM(E6:E40) -> 73 | F41: =+SUM(F6:F40) -> 68 | G41: =+SUM(G6:G40) -> 77 | H41: =+SUM(H6:H40) -> 71 | I41: =+SUM(I6:I40) -> 68 | J41: =+SUM(J6:J40) -> 71 | K41: =+SUM(K6:K40) -> 67 | L41: =+SUM(L6:L40) -> 69
...

Sheet Summary Sheet
A2: 8 X 8 Trophy - Tuesday October 18th 2022 - Judge: Clive Tanner FRPS MPAGB APAGB
A3: Position | B3: Title | C3: Author | D3: Club/Society | E3: Score
A4: 1 | B4: ='Score Sheet'!B6 -> A Match Made in Heaven | C4: ='Score Sheet'!C6 -> Brian Fleming | D4: ='Score Sheet'!D6 -> Halstead | E4: ='Score Sheet'!M6 -> 17
A5: 2 | B5: ='Score Sheet'!B7 -> Emma | C5: ='Score Sheet'!C7 -> Hilary Knight | D5: ='Score Sheet'!D7 -> Clacton | E5: ='Score Sheet'!M7 -> 18
A6: 3 | B6: ='Score Sheet'!B8 -> Five Trees Iceland | C6: ='Score Sheet'!C8 -> Colin Westgate | D6: ='Score Sheet'!D8 -> Colchester | E6: ='Score Sheet'!M8 -> 20
A7: 4 | B7: ='Score Sheet'!B9 -> Flower Flurries | C7: ='Score Sheet'!C9 -> Isabella Knight | D7: ='Score Sheet'!D9 -> Ipswich | E7: ='Score Sheet'!M9 -> 18
A8: 5 | B8: ='Score Sheet'!B10 -> Geranium | C8: ='Score Sheet'!C10 -> George Fossey | D8: ='Score Sheet'!D10 -> Harwich | E8: ='Score Sheet'!M10 -> 16
A9: 6 | B9: ='Score Sheet'!B11 -> I`m Thinking | C9: ='Score Sheet'!C11 -> Roger Gay | D9: ='Score Sheet'!D11 -> Maldon | E9: ='Score Sheet'!M11 -> 17
A10: 7 | B10: ='Score Sheet'!B12 -> Primary Glider | C10: ='Score Sheet'!C12 -> Chris Webber | D10: ='Score Sheet'!D12 -> Springfield | E10: ='Score Sheet'!M12 -> 17
A11: 8 | B11: ='Score Sheet'!B13 -> WW1 Military Policeman | C11: ='Score Sheet'!C13 -> Colin Birch | D11: ='Score Sheet'!D13 -> Chelmsford | E11: ='Score Sheet'!M13 -> 19
A13: 9 | B13: ='Score Sheet'!B15 -> 50`s Film Crew | C13: ='Score Sheet'!C15 -> Terry Stone | D13: ='Score Sheet'!D15 -> Maldon | E13: ='Score Sheet'!M15 -> 16
A14: 10 | B14: ='Score Sheet'!B16 -> Amy | C14: ='Score Sheet'!C16 -> David Blackwell | D14: ='Score Sheet'!D16 -> Clacton | E14: ='Score Sheet'!M16 -> 16
A15: 11 | B15: ='Score Sheet'!B17 -> At Home with Julio Napolis | C15: ='Score Sheet'!C17 -> Roy Essery | D15: ='Score Sheet'!D17 -> Colchester | E15: ='Score Sheet'!M17 -> 20
A16: 12 | B16: ='Score Sheet'!B18 -> Baking Day | C16: ='Score Sheet'!C18 -> Dennis McDermott | D16: ='Score Sheet'!D18 -> Halstead | E16: ='Score Sheet'!M18 -> 19
... A38: 32 | B38: ='Score Sheet'!B40 -> Wild Frogs from the Dark Depths of the Ecuadorian Rainforest | C38: ='Score Sheet'!C40 -> Alison Johnson | D38: ='Score Sheet'!D40 -> Chelmsford | E38: ='Score Sheet'!M40 -> 19
A41: 8 X 8 Trophy - Tuesday October 18th 2022 - Judge: Clive Tanner FRPS MPAGB APAGB
A42: Position | B42: Title | C42: Author | D42: Club/Society | E42: Score
A43: 33 | B43: ='Score Sheet'!B48 -> African Woman | C43: ='Score Sheet'!C48 -> Diane Raddon | D43: ='Score Sheet'!D48 -> Maldon | E43: ='Score Sheet'!M48 -> 19
A44: 34 | B44: ='Score Sheet'!B49 -> Day Break Ullswater | C44: ='Score Sheet'!C49 -> Mike Rose | D44: ='Score Sheet'!D49 -> Chelmsford | E44: ='Score Sheet'!M49 -> 17
A45: 35 | B45: ='Score Sheet'!B50 -> Eagle Owl approaching | C45: ='Score Sheet'!C50 -> Derek Howes | D45: ='Score Sheet'!D50 -> Colchester | E45: ='Score Sheet'!M50 -> 18
A46: 36 | B46: ='Score Sheet'!B51 -> Emma Dance | C46: ='Score Sheet'!C51 -> Stephen Whitfield | D46: ='Score Sheet'!D51 -> Harwich | E46: ='Score Sheet'!M51 -> 18
A47: 37 | B47: ='Score Sheet'!B52 -> Female Kingfisher at Sunrise | C47: ='Score Sheet'!C52 -> Cheryl Wilkes | D47: ='Score Sheet'!D52 -> Ipswich | E47: ='Score Sheet'!M52 -> 20
A48: 38 | B48: ='Score Sheet'!B53 -> Harmony | C48: ='Score Sheet'!C53 -> Martin Leech | D48: ='Score Sheet'!D53 -> Clacton | E48: ='Score Sheet'!M53 -> 16
A49: 39 | B49: ='Score Sheet'!B54 -> Out of the Wreckage | C49: ='Score Sheet'!C54 -> Mick Cant | D49: ='Score Sheet'!D54 -> Halstead | E49: ='Score Sheet'!M54 -> 18
A50: 40 | B50: ='Score Sheet'!B55 -> The Pier | C50: ='Score Sheet'!C55 -> Rob Johnston | D50: ='Score Sheet'!D55 -> Springfield | E50: ='Score Sheet'!M55 -> 17
A52: 41 | B52: ='Score Sheet'!B57 -> Kimberley Woods in K1W Slalom | C52: ='Score Sheet'!C57 -> Matthew Clarke | D52: ='Score Sheet'!D57 -> Ipswich | E52: ='Score Sheet'!M57 -> 19
A53: 42 | B53: ='Score Sheet'!B58 -> Not Now Mum | C53: ='Score Sheet'!C58 -> Veronica Stevens | D53: ='Score Sheet'!D58 -> Springfield | E53: ='Score Sheet'!M58 -> 17
A54: 43 | B54: ='Score Sheet'!B59 -> Oculus Building | C54: ='Score Sheet'!C59 -> Dave Purkiss | D54: ='Score Sheet'!D59 -> Chelmsford | E54: ='Score Sheet'!M59 -> 19
A55: 44 | B55: ='Score Sheet'!B60 -> Pirouette Dreamer | C55: ='Score Sheet'!C60 -> Naomi Foster | D55: ='Score Sheet'!D60 -> Harwich | E55: ='Score Sheet'!M60 -> 20
... A77: 64 | B77: ='Score Sheet'!B82 -> Winter Wood | C77: ='Score Sheet'!C82 -> Gill Beckett | D77: ='Score Sheet'!D82 -> Halstead | E77: ='Score Sheet'!M82 -> 17
A80: 8 X 8 Trophy - Tuesday October 18th 2022 - Judge: Clive Tanner FRPS MPAGB APAGB
B82: Tie Break Images
A84: 65 | B84: ='Score Sheet'!B92 -> Leopard with Kill and Cub | C84: =Chelmsford!C14 -> Veronica Rice | D84: Chelmsford | E84: ='Score Sheet'!E92 -> 0
A85: 66 | B85: ='Score Sheet'!B93 -> Grand Central Station - New York | C85: =Clacton!C14 -> David Egerton | D85: Clacton | E85: ='Score Sheet'!F93 -> 0
A86: 67 | B86: ='Score Sheet'!B94 -> Storm Jorge from Porthcawl | C86: =Colchester!C14 -> Kate Jackson | D86: Colchester | E86: ='Score Sheet'!G94 -> 0
A87: 68 | B87: ='Score Sheet'!B95 -> Grebe Chick | C87: =Halstead!C14 -> Laraine Green | D87: Halstead | E87: ='Score Sheet'!H95 -> 0
A88: 69 | B88: ='Score Sheet'!B96 -> Woodland Walk | C88: =Harwich!C14 -> Paul Andrews | D88: Harwich | E88: ='Score Sheet'!I96 -> 0
A89: 70 | B89: ='Score Sheet'!B97 -> One Man and his Dog on the Beach | C89: =Ipswich!C14 -> Alison Hance | D89: Ipswich | E89: ='Score Sheet'!J97 -> 0
A90: 71 | B90: ='Score Sheet'!B98 -> Barge Race | C90: =Maldon!C14 -> Terry Stone | D90: Maldon | E90: ='Score Sheet'!K98 -> 0
A91: 72 | B91: ='Score Sheet'!B99 -> Crocus on Glass | C91: =Springfield!C14 -> Dave Walker | D91: Springfield | E91: ='Score Sheet'!L99 -> 0
...

Sheet Chelmsford
A2: 8 X 8 Trophy - Tuesday October 18th 2022
A4: Club / Society | B4: Chelmsford Camera Club
A5: Reference | B5: Title | C5: Author
A6: 1 | B6: WW1 Military Policeman | C6: Colin Birch
A7: 2 | B7: Shades of Lilac and Purple | C7: Pat Frewin
A8: 3 | B8: Thinking | C8: Tom Plucinski
A9: 4 | B9: Wild Frogs from the Dark Depths of the Ecuadorian Rainforest | C9: Alison Johnson
A10: 5 | B10: Day Break Ullswater | C10: Mike Rose
A11: 6 | B11: Oculus Building | C11: Dave Purkiss
A12: 7 | B12: Hornet Removes Bee's Head | C12: Alec Fraser
A13: 8 | B13: Love to Dance | C13: Sally Freeman
A14: Tie-Break Image | B14: Leopard with Kill and Cub | C14: Veronica Rice

Sheet Clacton
A2: 8 X 8 Trophy - Tuesday October 18th 2022
A4: Club / Society | B4: Clacton Camera Club
A5: Reference | B5: Title | C5: Author
A6: 1 | B6: Emma | C6: Hilary Knight
A7: 2 | B7: Amy | C7: David Blackwell
A8: 3 | B8: Otters Play Fighting | C8: Colin Brett
A9: 4 | B9: The Bench | C9: Tony Carrotte
A10: 5 | B10: Harmony | C10: Martin Leech
A11: 6 | B11: Pools of Light - Robin Hood's Bay | C11: Graham Fennell
A12: 7 | B12: Barn Owl Stare | C12: Paul Mynors
A13: 8 | B13: Leo the Little Lion | C13: Jeff Cranwell
A14: Tie-Break Image | B14: Grand Central Station - New York | C14: David Egerton

Sheet Colchester
A2: 8 X 8 Trophy - Tuesday October 18th 2022
A4: Club / Society | B4: Colchester Photographic Society
A5: Reference | B5: Title | C5: Author
A6: 1 | B6: Five Trees Iceland | C6: Colin Westgate
A7: 2 | B7: At Home with Julio Napolis | C7: Roy Essery
A8: 3 | B8: Flying low over water | C8: Martin Heathcote
A9: 4 | B9: Febrrrrrrrary | C9: Chris Aldred
A10: 5 | B10: Eagle Owl approaching | C10: Derek Howes
A11: 6 | B11: Poppy Haze | C11: Christine Alexander
A12: 7 | B12: Chinese Chess | C12: Chrissie Hart
A13: 8 | B13: Cuckoo in flight | C13: Marny Macdonald
A14: Tie-Break Image | B14: Storm Jorge from Porthcawl | C14: Kate Jackson

Sheet Ipswich
A2: 8 X 8 Trophy - Tuesday October 18th 2022
A4: Club / Society | B4: Ipswich and District Photographic Society
A5: Reference | B5: Title | C5: Author
A6: 1 | B6: Flower Flurries | C6: Isabella Knight
A7: 2 | B7: Boxing Hares | C7: Stephen Harper
A8: 3 | B8: Gannets | C8: Martin Hancock
A9: 4 | B9: Japanese Alps | C9: Lynda Robinson
A10: 5 | B10: Female Kingfisher at Sunrise | C10: Cheryl Wilkes
A11: 6 | B11: Kimberley Woods in K1W Slalom | C11: Matthew Clarke
A12: 7 | B12: Julia and Graffiti | C12: Roger Hance
A13: 8 | B13: Matthew McMaster in the Lead | C13: David Robinson
A14: Tie-Break Image | B14: One Man and his Dog on the Beach | C14: Alison Hance

Sheet Halstead
A2: 8 X 8 Trophy - Tuesday October 18th 2022
A4: Club / Society | B4: Halstead & District Photographic Society
A5: Reference | B5: Title | C5: Author
A6: 1 | B6: A Match Made in Heaven | C6: Brian Fleming
A7: 2 | B7: Baking Day | C7: Dennis McDermott
A8: 3 | B8: Dried Alstroemeria | C8: Jan Bond
A9: 4 | B9: Mind the Gap | C9: Bill Hiskett
A10: 5 | B10: Out of the Wreckage | C10: Mick Cant
A11: 6 | B11: Red Squirrel at Poolside | C11: Laraine Green
A12: 7 | B12: Washed up Bottles | C12: Rosi Carpenter
A13: 8 | B13: Winter Wood | C13: Gill Beckett
A14: Tie-Break Image | B14: Grebe Chick | C14: Laraine Green

Sheet Harwich
A2: 8 X 8 Trophy - Tuesday October 18th 2022
A4: Club / Society | B4: Harwich & Dovercourt Camera Club
A5: Reference | B5: Title | C5: Author
A6: 1 | B6: Geranium | C6: George Fossey
A7: 2 | B7: Day Dreamer | C7: Alana Saunders
A8: 3 | B8: The tree and tower | C8: Val Green
A9: 4 | B9: I put a spell on you | C9: Leigh Browm
A10: 5 | B10: Emma Dance | C10: Stephen Whitfield
A11: 6 | B11: Pirouette Dreamer | C11: Naomi Foster
A12: 7 | B12: African Queen | C12: Ron Bell
A13: 8 | B13: The Mating Game | C13: Mandy Southgate
A14: Tie-Break Image | B14: Woodland Walk | C14: Paul Andrews

Sheet Maldon
A2: 8 X 8 Trophy - Tuesday October 18th 2022
A4: Club / Society | B4: Maldon Camera Club
A5: Reference | B5: Title | C5: Author
A6: 1 | B6: I`m Thinking | C6: Roger Gay
A7: 2 | B7: 50`s Film Crew | C7: Terry Stone
A8: 3 | B8: Battling Stallions | C8: Paul Wild
A9: 4 | B9: Lady In Red | C9: Jane Lamgston
A10: 5 | B10: African Woman | C10: Diane Raddon
A11: 6 | B11: Ready To Fire | C11: Phil Davies
A12: 7 | B12: Stormer Island Puffin | C12: Anna Gallagher
A13: 8 | B13: Waiting For Mum | C13: Zoe Harris
A14: Tie-Break Image | B14: Barge Race | C14: Terry Stone

Sheet Springfield
A2: 8 X 8 Trophy - Tuesday October 18th 2022
A4: Club / Society | B4: Springfield Camera Club
A5: Reference | B5: Title | C5: Author
A6: 1 | B6: Primary Glider | C6: Chris Webber
A7: 2 | B7: Charlie Brown | C7: Val Whitmell
A8: 3 | B8: Tower Bridge | C8: Nick Trye
A9: 4 | B9: Starry Night | C9: Jon Lane
A10: 5 | B10: The Pier | C10: Rob Johnston
A11: 6 | B11: Not Now Mum | C11: Veronica Stevens
A12: 7 | B12: Rhythm | C12: Katherine Rynor
A13: 8 | B13: Comancheros | C13: Rose Collins
A14: Tie-Break Image | B14: Crocus on Glass | C14: Dave Walker
